BEGIN:VCALENDAR
VERSION:2.0
PRODID:-//hacksw/handcal//NONSGML v1.0//EN
BEGIN:VEVENT
SUMMARY:Championnat par equipe 2e journees
UID:cc377efb-e29d-4ce9-b425-a6df2acaa26f
DTSTART:20260212T230000Z
DTEND:20260213T200000Z
LOCATION:Localisation   
CATEGORIES:Sportif
STATUS:
URL;VALUE=URI:https://cttdammartin.sportsregions.fr/evenements/2026/02/13/championnat-par-equipe-2e-journees-2417526
END:VEVENT
END:VCALENDAR
